BEGIN:VCALENDAR
VERSION:2.0
PRODID:-//Plone.org//NONSGML plone.app.event//EN
X-WR-TIMEZONE:Europe/Madrid
BEGIN:VEVENT
SUMMARY:Reunió amb  la Colla de Gegants, capgrossos, grallers i timbalers d'Alella
DTSTART;TZID=Europe/Madrid;VALUE=DATE-TIME:20251120T160000
DTEND;TZID=Europe/Madrid;VALUE=DATE-TIME:20251120T170000
DTSTAMP;VALUE=DATE-TIME:20260420T232652Z
UID:230766fdc8c6692234ba736d5e29e317
CREATED;VALUE=DATE-TIME:20251120T000000Z
CATEGORIES:Agenda institucional
LOCATION:Alcaldia
URL:https://www.mynerva.net/ajalella/document.php?id=25222
END:VEVENT
END:VCALENDAR