BEGIN:VCALENDAR
VERSION:2.0
PRODID:-//Plone.org//NONSGML plone.app.event//EN
X-WR-TIMEZONE:Europe/Madrid
BEGIN:VEVENT
SUMMARY:Casament civil
DTSTART;TZID=Europe/Madrid;VALUE=DATE-TIME:20251121T120000
DTEND;TZID=Europe/Madrid;VALUE=DATE-TIME:20251121T130000
DTSTAMP;VALUE=DATE-TIME:20260421T025851Z
UID:b6f649eea836e7c1ad10866f9e88749c
CREATED;VALUE=DATE-TIME:20251121T000000Z
CATEGORIES:Agenda institucional
LOCATION:Sala de Plens
URL:https://www.mynerva.net/ajalella/document.php?id=25225
END:VEVENT
END:VCALENDAR