BEGIN:VCALENDAR
VERSION:2.0
PRODID:-//Plone.org//NONSGML plone.app.event//EN
X-WR-TIMEZONE:Europe/Madrid
BEGIN:VEVENT
SUMMARY:Casament civil
DTSTART;TZID=Europe/Madrid;VALUE=DATE-TIME:20251121T130000
DTEND;TZID=Europe/Madrid;VALUE=DATE-TIME:20251121T140000
DTSTAMP;VALUE=DATE-TIME:20260421T042035Z
UID:37552d34740192ac388c4de2b4698797
CREATED;VALUE=DATE-TIME:20251121T000000Z
CATEGORIES:Agenda institucional
LOCATION:Sala de Plens
URL:https://www.mynerva.net/ajalella/document.php?id=25226
END:VEVENT
END:VCALENDAR