BEGIN:VCALENDAR
VERSION:2.0
PRODID:-//Plone.org//NONSGML plone.app.event//EN
X-WR-TIMEZONE:Europe/Madrid
BEGIN:VEVENT
SUMMARY:Reunió amb el director General  d'Infraestructures de Mobilitat
DTSTART;TZID=Europe/Madrid;VALUE=DATE-TIME:20251125T130000
DTEND;TZID=Europe/Madrid;VALUE=DATE-TIME:20251125T140000
DTSTAMP;VALUE=DATE-TIME:20260421T064124Z
UID:985efad6c888acf5b9d799e5722c26d4
CREATED;VALUE=DATE-TIME:20251125T000000Z
CATEGORIES:Agenda institucional
LOCATION:Telemàtica
DESCRIPTION:Sr. David Prat Soto
URL:https://www.mynerva.net/ajalella/document.php?id=25250
END:VEVENT
END:VCALENDAR