BEGIN:VCALENDAR
VERSION:2.0
PRODID:-//Plone.org//NONSGML plone.app.event//EN
X-WR-TIMEZONE:Europe/Madrid
BEGIN:VEVENT
SUMMARY:Presentació del Llibre Rosa Agenjo: les meves ceràmiques favorites
DTSTART;TZID=Europe/Madrid;VALUE=DATE-TIME:20251120T000000
DTEND;TZID=Europe/Madrid;VALUE=DATE-TIME:20251120T010000
DTSTAMP;VALUE=DATE-TIME:20260420T233038Z
UID:2c8ee55f27e833f32703c4be1fd04454
CREATED;VALUE=DATE-TIME:20251120T000000Z
CATEGORIES:Agenda institucional
LOCATION:Biblioteca Ferrer i Guàrdia d'Alella
URL:https://www.mynerva.net/ajalella/document.php?id=25251
END:VEVENT
END:VCALENDAR