BEGIN:VCALENDAR
VERSION:2.0
PRODID:-//Plone.org//NONSGML plone.app.event//EN
X-WR-TIMEZONE:Europe/Madrid
BEGIN:VEVENT
SUMMARY:Consell d'Alcaldes de la Mancomunitat
DTSTART;TZID=Europe/Madrid;VALUE=DATE-TIME:20251126T090000
DTEND;TZID=Europe/Madrid;VALUE=DATE-TIME:20251126T100000
DTSTAMP;VALUE=DATE-TIME:20260421T063856Z
UID:93a1304e4aee3fa04042af24d5b9586a
CREATED;VALUE=DATE-TIME:20251126T000000Z
CATEGORIES:Agenda institucional
LOCATION:El Masnou
URL:https://www.mynerva.net/ajalella/document.php?id=25252
END:VEVENT
END:VCALENDAR