BEGIN:VCALENDAR
VERSION:2.0
PRODID:-//Plone.org//NONSGML plone.app.event//EN
X-WR-TIMEZONE:Europe/Madrid
BEGIN:VEVENT
SUMMARY:Consell General de la Mancomunitat
DTSTART;TZID=Europe/Madrid;VALUE=DATE-TIME:20251126T093000
DTEND;TZID=Europe/Madrid;VALUE=DATE-TIME:20251126T103000
DTSTAMP;VALUE=DATE-TIME:20260421T063902Z
UID:9af6035ed2c2b7bd00ac6e922a0a225a
CREATED;VALUE=DATE-TIME:20251126T000000Z
CATEGORIES:Agenda institucional
LOCATION:El Masnou
URL:https://www.mynerva.net/ajalella/document.php?id=25253
END:VEVENT
END:VCALENDAR