BEGIN:VCALENDAR
VERSION:2.0
PRODID:-//Plone.org//NONSGML plone.app.event//EN
X-WR-TIMEZONE:Europe/Madrid
BEGIN:VEVENT
SUMMARY:Reunió amb Serveis Territorials d'Educació
DTSTART;TZID=Europe/Madrid;VALUE=DATE-TIME:20251126T123000
DTEND;TZID=Europe/Madrid;VALUE=DATE-TIME:20251126T133000
DTSTAMP;VALUE=DATE-TIME:20260421T063500Z
UID:da2ba1407408ddaed9d6a83b08bcaa3c
CREATED;VALUE=DATE-TIME:20251126T000000Z
CATEGORIES:Agenda institucional
LOCATION:Mataró
URL:https://www.mynerva.net/ajalella/document.php?id=25254
END:VEVENT
END:VCALENDAR