BEGIN:VCALENDAR
VERSION:2.0
PRODID:-//Plone.org//NONSGML plone.app.event//EN
X-WR-TIMEZONE:Europe/Madrid
BEGIN:VEVENT
SUMMARY:Visita del director del Serveis Territorials d'Administració Local a Barcelona
DTSTART;TZID=Europe/Madrid;VALUE=DATE-TIME:20251128T100000
DTEND;TZID=Europe/Madrid;VALUE=DATE-TIME:20251128T110000
DTSTAMP;VALUE=DATE-TIME:20260421T063805Z
UID:3d120cd8994adda6a2aba1f94b574d5d
CREATED;VALUE=DATE-TIME:20251128T000000Z
CATEGORIES:Agenda institucional
LOCATION:Sala de Plens
DESCRIPTION:Sr. David Agustí Belart,
URL:https://www.mynerva.net/ajalella/document.php?id=25257
END:VEVENT
END:VCALENDAR