BEGIN:VCALENDAR
VERSION:2.0
PRODID:-//Plone.org//NONSGML plone.app.event//EN
X-WR-TIMEZONE:Europe/Madrid
BEGIN:VEVENT
SUMMARY:Encesa de llums de Nadal
DTSTART;TZID=Europe/Madrid;VALUE=DATE-TIME:20251128T180000
DTEND;TZID=Europe/Madrid;VALUE=DATE-TIME:20251128T190000
DTSTAMP;VALUE=DATE-TIME:20260421T114102Z
UID:2196693119d54f39188bea9698323196
CREATED;VALUE=DATE-TIME:20251128T000000Z
CATEGORIES:Agenda institucional
LOCATION:Plaça de l'Ajuntament
URL:https://www.mynerva.net/ajalella/document.php?id=25258
END:VEVENT
END:VCALENDAR