BEGIN:VCALENDAR
VERSION:2.0
PRODID:-//Plone.org//NONSGML plone.app.event//EN
X-WR-TIMEZONE:Europe/Madrid
BEGIN:VEVENT
SUMMARY:Reunió Next Generation - Vinya testimonial
DTSTART;TZID=Europe/Madrid;VALUE=DATE-TIME:20251201T093000
DTEND;TZID=Europe/Madrid;VALUE=DATE-TIME:20251201T103000
DTSTAMP;VALUE=DATE-TIME:20260421T105722Z
UID:8b870c74ac538735be5c3698293d1755
CREATED;VALUE=DATE-TIME:20251201T000000Z
CATEGORIES:Agenda institucional
LOCATION:Sala de Plens
URL:https://www.mynerva.net/ajalella/document.php?id=25320
END:VEVENT
END:VCALENDAR