BEGIN:VCALENDAR
VERSION:2.0
PRODID:-//Plone.org//NONSGML plone.app.event//EN
X-WR-TIMEZONE:Europe/Madrid
BEGIN:VEVENT
SUMMARY:Espais de Poesia. Teatre de titelles. Mínim món
DTSTART;TZID=Europe/Madrid;VALUE=DATE-TIME:20260418T110000
DTEND;TZID=Europe/Madrid;VALUE=DATE-TIME:20260418T120000
DTSTAMP;VALUE=DATE-TIME:20260419T152953Z
UID:2890cac5b4df3c5981a7543376d85100
CREATED;VALUE=DATE-TIME:20260418T000000Z
CATEGORIES:Espectacles,Jornades,Familiars
LOCATION:Casa taller Tomàs Bel Oleart (avinguda d'Alella, 32)
ORGANIZER:Ajuntament d'Alella
COMMENT:Preu: Gratuït
Durada: Diumenge 18 d'abril de 2026, sessions a les 11 i a les 12:30h
DESCRIPTION:Entrades
URL:https://www.mynerva.net/ajalella/document.php?id=25760
END:VEVENT
END:VCALENDAR