BEGIN:VCALENDAR
VERSION:2.0
PRODID:-//Plone.org//NONSGML plone.app.event//EN
X-WR-TIMEZONE:Europe/Madrid
BEGIN:VEVENT
SUMMARY:Espais de Poesia. Club de lectura. Neuma, d'Amanda Bassa
DTSTART;TZID=Europe/Madrid;VALUE=DATE-TIME:20260409T193000
DTEND;TZID=Europe/Madrid;VALUE=DATE-TIME:20260409T203000
DTSTAMP;VALUE=DATE-TIME:20260424T134400Z
UID:2e75e1b77340f959744260f6c770d34b
CREATED;VALUE=DATE-TIME:20260409T000000Z
CATEGORIES:Literatura
LOCATION:Biblioteca Municipal Ferrer i Guàrdia - Hort de la Rectoria. 08328 Alella
ORGANIZER:Ajuntament d'Alella
COMMENT:Preu: Gratuït
URL:https://www.mynerva.net/ajalella/document.php?id=25792
END:VEVENT
END:VCALENDAR