BEGIN:VCALENDAR
VERSION:2.0
PRODID:-//Plone.org//NONSGML plone.app.event//EN
X-WR-TIMEZONE:Europe/Madrid
BEGIN:VEVENT
SUMMARY:Exposició "Flors i Viatges". La guerra i les dones, de Mercè Rodoreda de Cabosanroque
DTSTART;TZID=Europe/Madrid;VALUE=DATE-TIME:20260531T110000
DTEND;TZID=Europe/Madrid;VALUE=DATE-TIME:20260531T120000
DTSTAMP;VALUE=DATE-TIME:20260424T192422Z
UID:15c4db0e67c4f1e0c5a04714f9f9481f
CREATED;VALUE=DATE-TIME:20260424T000000Z
CATEGORIES:Espectacles,Música,Exposició,Literatura
LOCATION:Can Manyé. Espai d'art i creació - Riera Coma Fosca 42. 08328 Alella
ORGANIZER:Ajuntament d'Alella
COMMENT:Preu: Gratuït
DESCRIPTION:del 24 d'abril al 31 de maig
URL:https://www.mynerva.net/ajalella/document.php?id=25811
END:VEVENT
END:VCALENDAR