BEGIN:VCALENDAR
VERSION:2.0
PRODID:-//Plone.org//NONSGML plone.app.event//EN
X-WR-TIMEZONE:Europe/Madrid
BEGIN:VEVENT
SUMMARY:Sortides de natura. Itinerari de l'aigua i aqüeductes a la riera Verneda - Cassà de la Selva
DTSTART;TZID=Europe/Madrid;VALUE=DATE-TIME:20260408T073000
DTEND;TZID=Europe/Madrid;VALUE=DATE-TIME:20260408T083000
DTSTAMP;VALUE=DATE-TIME:20260425T044211Z
UID:9b658d5afc3f7a37109fea14e64e6778
CREATED;VALUE=DATE-TIME:20260408T000000Z
CATEGORIES:Sortides
LOCATION:Centre Cultural de Can Lleonart - Plaça dels Germans Lleonart, 1 08328 Alella
ORGANIZER:Ajuntament d'Alella
COMMENT:Preu: 30&euro;
Durada: 4h 30min
URL:https://www.mynerva.net/ajalella/document.php?id=25819
END:VEVENT
END:VCALENDAR