BEGIN:VCALENDAR
VERSION:2.0
PRODID:-//Plone.org//NONSGML plone.app.event//EN
X-WR-TIMEZONE:Europe/Madrid
BEGIN:VEVENT
SUMMARY:Sortides de natura. Gegants de pedra entre Darnius i el pantà de Boadella
DTSTART;TZID=Europe/Madrid;VALUE=DATE-TIME:20260422T073000
DTEND;TZID=Europe/Madrid;VALUE=DATE-TIME:20260422T083000
DTSTAMP;VALUE=DATE-TIME:20260424T203221Z
UID:79d12e53d354c0de7110e7a09457e1df
CREATED;VALUE=DATE-TIME:20260422T000000Z
CATEGORIES:Sortides
LOCATION:Centre Cultural de Can Lleonart - Plaça dels Germans Lleonart, 1 08328 Alella
ORGANIZER:Ajuntament d'Alella
COMMENT:Preu: 30&euro;
Durada: 5h 30min
URL:https://www.mynerva.net/ajalella/document.php?id=25820
END:VEVENT
END:VCALENDAR