BEGIN:VCALENDAR
VERSION:2.0
PRODID:-//Plone.org//NONSGML plone.app.event//EN
X-WR-TIMEZONE:Europe/Madrid
BEGIN:VEVENT
SUMMARY:Sortides culturals. El Raval medieval: Entre convents i hospitals
DTSTART;TZID=Europe/Madrid;VALUE=DATE-TIME:20260507T090000
DTEND;TZID=Europe/Madrid;VALUE=DATE-TIME:20260507T100000
DTSTAMP;VALUE=DATE-TIME:20260424T220605Z
UID:49fb24bc26a5f6c3ca098f194873bea2
CREATED;VALUE=DATE-TIME:20260507T000000Z
CATEGORIES:Sortides
LOCATION:Centre Cultural de Can Lleonart - Plaça dels Germans Lleonart, 1 08328 Alella
ORGANIZER:Ajuntament d'Alella
COMMENT:Preu: 25&euro;
URL:https://www.mynerva.net/ajalella/document.php?id=25825
END:VEVENT
END:VCALENDAR