BEGIN:VCALENDAR
VERSION:2.0
PRODID:-//Plone.org//NONSGML plone.app.event//EN
X-WR-TIMEZONE:Europe/Madrid
BEGIN:VEVENT
SUMMARY:CANCEL·LAT - Tallers de divendres. Fem un terrari: Natura dins d'un gerro
DTSTART;TZID=Europe/Madrid;VALUE=DATE-TIME:20260424T170000
DTEND;TZID=Europe/Madrid;VALUE=DATE-TIME:20260424T180000
DTSTAMP;VALUE=DATE-TIME:20260425T225036Z
UID:6f98b46939f7b4725b9d264c32ca1a83
CREATED;VALUE=DATE-TIME:20260424T000000Z
CATEGORIES:Cursos
LOCATION:Centre Cultural de Can Lleonart - Plaça dels Germans Lleonart, 1 08328 Alella
ORGANIZER:Ajuntament d'Alella
COMMENT:Preu: 36&euro;
Durada: 17-19h
URL:https://www.mynerva.net/ajalella/document.php?id=25836
END:VEVENT
END:VCALENDAR