BEGIN:VCALENDAR
VERSION:2.0
PRODID:-//Plone.org//NONSGML plone.app.event//EN
X-WR-TIMEZONE:Europe/Madrid
BEGIN:VEVENT
SUMMARY:Els personatges de la revista Alella, 40 anys de retrats
DTSTART;TZID=Europe/Madrid;VALUE=DATE-TIME:20260622T000000
DTEND;TZID=Europe/Madrid;VALUE=DATE-TIME:20260622T010000
DTSTAMP;VALUE=DATE-TIME:20260425T224553Z
UID:1615bbe4147766129add9c9617241e51
CREATED;VALUE=DATE-TIME:20260422T000000Z
CATEGORIES:Exposició
LOCATION:Espai d'Arts Escèniques i Casal d'Alella - Carrer de Santa Teresa, 9 08328 Alella
ORGANIZER:Ajuntament d'Alella, Revista Alella i Casal d'Alella
DESCRIPTION:Exposició fotogràfica
URL:https://www.mynerva.net/ajalella/document.php?id=25849
END:VEVENT
END:VCALENDAR