BEGIN:VCALENDAR
VERSION:2.0
PRODID:-//Plone.org//NONSGML plone.app.event//EN
X-WR-TIMEZONE:Europe/Madrid
BEGIN:VEVENT
SUMMARY:Parlem educació. L'educació emocional en família (0 a 3 anys)
DTSTART;TZID=Europe/Madrid;VALUE=DATE-TIME:20260522T150000
DTEND;TZID=Europe/Madrid;VALUE=DATE-TIME:20260522T160000
DTSTAMP;VALUE=DATE-TIME:20260423T094652Z
UID:0e1bfc37096a59e92f2e500c7f9b9fbc
CREATED;VALUE=DATE-TIME:20260522T000000Z
CATEGORIES:Tertúlies,Familiars
LOCATION:Llar d'Infants Municipal Els Pinyons - Avinguda del Bosquet, 5
ORGANIZER:Ajuntament d'Alella
COMMENT:Preu: Gratuït però amb inscricpió prèvia a serveipsicopedagogia@gmail.com
Durada: 1h
URL:https://www.mynerva.net/ajalella/document.php?id=25941
END:VEVENT
END:VCALENDAR