BEGIN:VCALENDAR
VERSION:2.0
PRODID:-//Plone.org//NONSGML plone.app.event//EN
X-WR-TIMEZONE:Europe/Madrid
BEGIN:VEVENT
SUMMARY:3a Jornada intescolar d'activitats esportives
DTSTART;TZID=Europe/Madrid;VALUE=DATE-TIME:20260429T090000
DTEND;TZID=Europe/Madrid;VALUE=DATE-TIME:20260429T100000
DTSTAMP;VALUE=DATE-TIME:20260420T153624Z
UID:119fc0e1fa22cee1ac14c623aab1b148
CREATED;VALUE=DATE-TIME:20260429T000000Z
CATEGORIES:Esports
LOCATION:Pavelló d'Esports Municipal Abelardo Vera - Passeig de la Creu de Pedra, 29-31. 08328 Alella
ORGANIZER:Ajuntament d'Alella
URL:https://www.mynerva.net/ajalella/document.php?id=25946
END:VEVENT
END:VCALENDAR