BEGIN:VCALENDAR
VERSION:2.0
PRODID:-//Plone.org//NONSGML plone.app.event//EN
X-WR-TIMEZONE:Europe/Madrid
BEGIN:VEVENT
SUMMARY:Jornada de Portes Obertes a la Llar d'Infants Municipal Els Pinyons
DTSTART;TZID=Europe/Madrid;VALUE=DATE-TIME:20260425T100000
DTEND;TZID=Europe/Madrid;VALUE=DATE-TIME:20260425T110000
DTSTAMP;VALUE=DATE-TIME:20260424T174229Z
UID:59b9fb39fb9437ada097c5d171398fbf
CREATED;VALUE=DATE-TIME:20260425T000000Z
CATEGORIES:Tertúlies,Jornades,Familiars
LOCATION:Llar d'Infants Municipal Els Pinyons - Avinguda del Bosquet, 5
ORGANIZER:Ajuntament d'Alella
COMMENT:Preu: Gratuït però amb inscricpió prèvia
URL:https://www.mynerva.net/ajalella/document.php?id=25947
END:VEVENT
END:VCALENDAR