BEGIN:VCALENDAR
VERSION:2.0
PRODID:-//Plone.org//NONSGML plone.app.event//EN
X-WR-TIMEZONE:Europe/Madrid
BEGIN:VEVENT
SUMMARY:Taller joieria DIY a l'Àgora
DTSTART;TZID=Europe/Madrid;VALUE=DATE-TIME:20260514T163000
DTEND;TZID=Europe/Madrid;VALUE=DATE-TIME:20260514T173000
DTSTAMP;VALUE=DATE-TIME:20260424T202410Z
UID:ec5b291d2b8a0c29b2d7782ac69e925f
CREATED;VALUE=DATE-TIME:20260514T000000Z
CATEGORIES:Cursos,Joves
LOCATION:Àgora - Avinguda Ferran Fabra, 1 08328
ORGANIZER:Ajuntament d'Alella
COMMENT:Preu: Gratuït
URL:https://www.mynerva.net/ajalella/document.php?id=26004
END:VEVENT
END:VCALENDAR