BEGIN:VCALENDAR
VERSION:2.0
PRODID:-//Plone.org//NONSGML plone.app.event//EN
X-WR-TIMEZONE:Europe/Madrid
BEGIN:VEVENT
SUMMARY:Cinema. Proyecto salvación
DTSTART;TZID=Europe/Madrid;VALUE=DATE-TIME:20260425T194500
DTEND;TZID=Europe/Madrid;VALUE=DATE-TIME:20260425T204500
DTSTAMP;VALUE=DATE-TIME:20260424T192905Z
UID:ec3628960aacc99f328b00aff598353e
CREATED;VALUE=DATE-TIME:20260425T000000Z
CATEGORIES:Cinema
LOCATION:Espai d'Arts Escèniques - Carrer de Santa Teresa, 9 08328 Alella
ORGANIZER:Ajuntament d'Alella
COMMENT:Preu: Preu Feiners i Festius: 6,5&euro; Dia de preu reduït: 4,50 Majors de 65 anys: 2&euro;
Durada: Dissabte 25 d'abril a les 19.45h
URL:https://www.mynerva.net/ajalella/document.php?id=26042
END:VEVENT
END:VCALENDAR