BEGIN:VCALENDAR
VERSION:2.0
PRODID:-//Plone.org//NONSGML plone.app.event//EN
X-WR-TIMEZONE:Europe/Madrid
BEGIN:VEVENT
SUMMARY:Bus consum
DTSTART;TZID=Europe/Madrid;VALUE=DATE-TIME:20260515T103000
DTEND;TZID=Europe/Madrid;VALUE=DATE-TIME:20260515T113000
DTSTAMP;VALUE=DATE-TIME:20260424T202440Z
UID:bf73200a0f15237110197d773b1e6fd6
CREATED;VALUE=DATE-TIME:20260515T000000Z
CATEGORIES:Jornades
LOCATION:Aparcament de Can Lleonart
ORGANIZER:Ajuntament d'Alella i Diputació de Barcelona
URL:https://www.mynerva.net/ajalella/document.php?id=26044
END:VEVENT
END:VCALENDAR