BEGIN:VCALENDAR
VERSION:2.0
PRODID:-//Plone.org//NONSGML plone.app.event//EN
X-WR-TIMEZONE:Europe/Madrid
BEGIN:VEVENT
SUMMARY:Punt d'autoservei de compost
DTSTART;TZID=Europe/Madrid;VALUE=DATE-TIME:20260505T090000
DTEND;TZID=Europe/Madrid;VALUE=DATE-TIME:20260505T100000
DTSTAMP;VALUE=DATE-TIME:20260424T174228Z
UID:cd8022635762b970323e69e19f0696c7
CREATED;VALUE=DATE-TIME:20260505T000000Z
CATEGORIES:Cursos
LOCATION:Centre Cultural de Can Lleonart - Plaça dels Germans Lleonart, 1 08328 Alella
ORGANIZER:Regidoria de Medi Ambient i Sostenibilitat
COMMENT:Preu: Gratuït
Durada: Dimarts 5 a dijous 7 (9-20h) i divendres 8 (9-13h)
URL:https://www.mynerva.net/ajalella/document.php?id=26051
END:VEVENT
END:VCALENDAR