BEGIN:VCALENDAR
VERSION:2.0
PRODID:-//Plone.org//NONSGML plone.app.event//EN
X-WR-TIMEZONE:Europe/Madrid
BEGIN:VEVENT
SUMMARY:Inauguració de l'exposició "Els personatges de la revista Alella, 40 anys de retrats"
DTSTART;TZID=Europe/Madrid;VALUE=DATE-TIME:20260422T193000
DTEND;TZID=Europe/Madrid;VALUE=DATE-TIME:20260422T203000
DTSTAMP;VALUE=DATE-TIME:20260420T011337Z
UID:ce88530b0cc1f525dd7415a7c33c7971
CREATED;VALUE=DATE-TIME:20260422T000000Z
CATEGORIES:Exposició
LOCATION:Espai d'Arts Escèniques i Casal d'Alella - Carrer de Santa Teresa, 9 08328 Alella
ORGANIZER:Ajuntament d'Alella, Revista Alella i Casal d'Alella
URL:https://www.mynerva.net/ajalella/document.php?id=26067
END:VEVENT
END:VCALENDAR