BEGIN:VCALENDAR
VERSION:2.0
PRODID:-//Plone.org//NONSGML plone.app.event//EN
X-WR-TIMEZONE:Europe/Madrid
BEGIN:VEVENT
SUMMARY:Partits competició Lliga de Newcom Maresme
DTSTART;TZID=Europe/Madrid;VALUE=DATE-TIME:20260430T100000
DTEND;TZID=Europe/Madrid;VALUE=DATE-TIME:20260430T110000
DTSTAMP;VALUE=DATE-TIME:20260424T214537Z
UID:e72f4a44ea40f619b3cffb77f4a46125
CREATED;VALUE=DATE-TIME:20260430T000000Z
CATEGORIES:Esports
LOCATION:Pavelló d'Esports Municipal Abelardo Vera - Passeig de la Creu de Pedra, 29-31. 08328 Alella
ORGANIZER:Newcom Alella
COMMENT:Preu: Gratuït
Durada: Aprox 60-70 min.
DESCRIPTION:Newcom Alella /Newcom Calella Piorena Blau
URL:https://www.mynerva.net/ajalella/document.php?id=26068
END:VEVENT
END:VCALENDAR