BEGIN:VCALENDAR
VERSION:2.0
PRODID:-//Plone.org//NONSGML plone.app.event//EN
X-WR-TIMEZONE:Europe/Madrid
BEGIN:VEVENT
SUMMARY:Espectacle de circ familiar. Lua, amb la Cia. Alba Sarraute
DTSTART;TZID=Europe/Madrid;VALUE=DATE-TIME:20260426T110000
DTEND;TZID=Europe/Madrid;VALUE=DATE-TIME:20260426T120000
DTSTAMP;VALUE=DATE-TIME:20260423T094652Z
UID:930c225a78d7f024c73d76145d49aa32
CREATED;VALUE=DATE-TIME:20260426T000000Z
CATEGORIES:Espectacles,Familiars
LOCATION:Plaça de l'Ajuntament - Plaça de l'Ajuntament, s/n. 08328 Alella
ORGANIZER:Ajuntament d'Alella
URL:https://www.mynerva.net/ajalella/document.php?id=26070
END:VEVENT
END:VCALENDAR