BEGIN:VCALENDAR
VERSION:2.0
PRODID:-//Plone.org//NONSGML plone.app.event//EN
X-WR-TIMEZONE:Europe/Madrid
BEGIN:VEVENT
SUMMARY:Ordre del dia de la Junta de Govern extraordinària i pública que se celebra divendres 24 d'abril a les 9 h a la Sala de Plens de l'Ajuntament
DTSTART;TZID=Europe/Madrid;VALUE=DATE-TIME:20250722T183000
DTEND;TZID=Europe/Madrid;VALUE=DATE-TIME:20250722T193000
DTSTAMP;VALUE=DATE-TIME:20260423T165504Z
UID:a4eabf49777ae2ce35048cae26cc1c0c
CREATED;VALUE=DATE-TIME:20250722T000000Z
LOCATION:Sala de Plens de l'Ajuntament
URL:https://www.mynerva.net/ajalella/document.php?id=26083
END:VEVENT
END:VCALENDAR