BEGIN:VCALENDAR
VERSION:2.0
PRODID:-//Plone.org//NONSGML plone.app.event//EN
X-WR-TIMEZONE:Europe/Madrid
BEGIN:VEVENT
SUMMARY:Inauguració de l'exposició "Flors i Viatges". La guerra i les dones, de Mercè Rodoreda de Cabosanroque
DTSTART;TZID=Europe/Madrid;VALUE=DATE-TIME:20260424T193000
DTEND;TZID=Europe/Madrid;VALUE=DATE-TIME:20260424T203000
DTSTAMP;VALUE=DATE-TIME:20260423T164411Z
UID:7edec0f001b0b65948a81334b26becf1
CREATED;VALUE=DATE-TIME:20260424T000000Z
CATEGORIES:Espectacles,Música,Exposició,Literatura
LOCATION:Can Manyé. Espai d'art i creació - Riera Coma Fosca 42. 08328 Alella
ORGANIZER:Ajuntament d'Alella
COMMENT:Preu: Gratuït
DESCRIPTION:del 24 d'abril al 31 de maig
URL:https://www.mynerva.net/ajalella/document.php?id=26084
END:VEVENT
END:VCALENDAR