BEGIN:VCALENDAR
VERSION:2.0
PRODID:-//Plone.org//NONSGML plone.app.event//EN
X-WR-TIMEZONE:Europe/Madrid
BEGIN:VEVENT
SUMMARY:Agenda esportiva Pavelló Municipal d'Esports i Camp d'Esports Municipal
DTSTART;TZID=Europe/Madrid;VALUE=DATE-TIME:20260425T090000
DTEND;TZID=Europe/Madrid;VALUE=DATE-TIME:20260425T100000
DTSTAMP;VALUE=DATE-TIME:20260424T055948Z
UID:f4d5f27b0edf13320a7db0f133f6559b
CREATED;VALUE=DATE-TIME:20260425T000000Z
CATEGORIES:Familiars,Joves,Esports
LOCATION:Pavelló d'Esports Municipal i Camp d'Esports Municipal
ORGANIZER:Ajuntament d'Alella
COMMENT:Durada: 25 i 26 d'abril
URL:https://www.mynerva.net/ajalella/document.php?id=26087
END:VEVENT
END:VCALENDAR