BEGIN:VCALENDAR
VERSION:2.0
PRODID:-//Plone.org//NONSGML plone.app.event//EN
X-WR-TIMEZONE:Europe/Madrid
BEGIN:VEVENT
SUMMARY:Presentació de la Taula per la Llengua
DTSTART;TZID=Europe/Madrid;VALUE=DATE-TIME:20260427T190000
DTEND;TZID=Europe/Madrid;VALUE=DATE-TIME:20260427T200000
DTSTAMP;VALUE=DATE-TIME:20260424T154457Z
UID:bd9abea5f6538fca056de224d1faedb2
CREATED;VALUE=DATE-TIME:20260427T000000Z
CATEGORIES:Tertúlies
LOCATION:Biblioteca Municipal Ferrer i Guàrdia - Hort de la Rectoria. 08328 Alella
ORGANIZER:Ajuntament d'Alella
URL:https://www.mynerva.net/ajalella/document.php?id=26088
END:VEVENT
END:VCALENDAR