BEGIN:VCALENDAR
VERSION:2.0
PRODID:-//Plone.org//NONSGML plone.app.event//EN
X-WR-TIMEZONE:Europe/Madrid
BEGIN:VEVENT
SUMMARY:Dia de la Dansa. Mostra oberta de dansa a la Plaça de l'Ajuntament
DTSTART;TZID=Europe/Madrid;VALUE=DATE-TIME:20260428T170000
DTEND;TZID=Europe/Madrid;VALUE=DATE-TIME:20260428T180000
DTSTAMP;VALUE=DATE-TIME:20260425T030507Z
UID:ae8623fe19a5774de87ce67814cef93f
CREATED;VALUE=DATE-TIME:20260428T000000Z
CATEGORIES:Espectacles,Cursos
LOCATION:Plaça de l'Ajuntament - Plaça de l'Ajuntament, s/n. 08328 Alella
ORGANIZER:Ajuntament d'Alella
COMMENT:Durada: De 17 a 19h
URL:https://www.mynerva.net/ajalella/document.php?id=26089
END:VEVENT
END:VCALENDAR