BEGIN:VCALENDAR
VERSION:2.0
PRODID:-//Plone.org//NONSGML plone.app.event//EN
X-WR-TIMEZONE:Europe/Madrid
BEGIN:VEVENT
SUMMARY:Visita guiada a la ruta "Alella, 1.000 anys d'història"
DTSTART;TZID=Europe/Madrid;VALUE=DATE-TIME:20140628T103000
DTEND;TZID=Europe/Madrid;VALUE=DATE-TIME:20140628T113000
DTSTAMP;VALUE=DATE-TIME:20260421T192245Z
UID:a1565b998e0ee3db8de2d7ee99be40a2
CREATED;VALUE=DATE-TIME:20140628T000000Z
CATEGORIES:
LOCATION:Oficina de Turisme - Riera Fosca 2. 08328 Alella
ORGANIZER:Ajuntament d'Alella
COMMENT:Preu: 4 euros. Gratuït per a menors de 8 anys i preu reduït de dos euros per a majors de 65 anys, aturats i grups a partir de 10 persones.
Durada: Dues hores aproximadament
URL:https://www.mynerva.net/ajalella/document.php?id=3744
END:VEVENT
END:VCALENDAR