BEGIN:VCALENDAR
VERSION:2.0
PRODID:-//Plone.org//NONSGML plone.app.event//EN
X-WR-TIMEZONE:Europe/Madrid
BEGIN:VEVENT
SUMMARY:Enotast. Vi, mar i peix blau
DTSTART;TZID=Europe/Madrid;VALUE=DATE-TIME:20140517T130000
DTEND;TZID=Europe/Madrid;VALUE=DATE-TIME:20140517T140000
DTSTAMP;VALUE=DATE-TIME:20260420T195048Z
UID:dc1e8e541b5edb47d6d33169f67d6aed
CREATED;VALUE=DATE-TIME:20140517T000000Z
CATEGORIES:
LOCATION:Oficina de Turisme - Riera Fosca 2. 08328 Alella
ORGANIZER:Ajuntament d'Alella
COMMENT:Durada: De 13 a 14.15h
URL:https://www.mynerva.net/ajalella/document.php?id=3825
END:VEVENT
END:VCALENDAR