BEGIN:VCALENDAR
VERSION:2.0
PRODID:-//Plone.org//NONSGML plone.app.event//EN
X-WR-TIMEZONE:Europe/Madrid
BEGIN:VEVENT
SUMMARY:Travessa pels Hostalets d'en Bas, Serra dels Llancers i Collada de Bracons
DTSTART;TZID=Europe/Madrid;VALUE=DATE-TIME:20140507T070000
DTEND;TZID=Europe/Madrid;VALUE=DATE-TIME:20140507T080000
DTSTAMP;VALUE=DATE-TIME:20260420T130639Z
UID:1fe491228b2f31f697a4b9d47e82ea28
CREATED;VALUE=DATE-TIME:20140507T000000Z
CATEGORIES:
LOCATION:Centre Cultural de Can Lleonart - Plaça dels Germans Lleonart, 1 08328 Alella
ORGANIZER:Ajuntament d'Alella
URL:https://www.mynerva.net/ajalella/document.php?id=3961
END:VEVENT
END:VCALENDAR