BEGIN:VCALENDAR
VERSION:2.0
PRODID:-//Plone.org//NONSGML plone.app.event//EN
X-WR-TIMEZONE:Europe/Madrid
BEGIN:VEVENT
SUMMARY:Tertúlies en primera persona. "El meu Iran: més enllà de Fara Diba i el vel"
DTSTART;TZID=Europe/Madrid;VALUE=DATE-TIME:20140515T200000
DTEND;TZID=Europe/Madrid;VALUE=DATE-TIME:20140515T210000
DTSTAMP;VALUE=DATE-TIME:20260420T154002Z
UID:760996ab6501b580263f942973d4b878
CREATED;VALUE=DATE-TIME:20140515T000000Z
CATEGORIES:
LOCATION:Centre Cultural de Can Lleonart - Plaça dels Germans Lleonart, 1 08328 Alella
ORGANIZER:Ajuntament d'Alella
URL:https://www.mynerva.net/ajalella/document.php?id=3962
END:VEVENT
END:VCALENDAR