BEGIN:VCALENDAR
VERSION:2.0
PRODID:-//Plone.org//NONSGML plone.app.event//EN
X-WR-TIMEZONE:Europe/Madrid
BEGIN:VEVENT
SUMMARY:Alella Valora l'Esport. "Creuant l'Atlàntic a rem"
DTSTART;TZID=Europe/Madrid;VALUE=DATE-TIME:20140516T200000
DTEND;TZID=Europe/Madrid;VALUE=DATE-TIME:20140516T210000
DTSTAMP;VALUE=DATE-TIME:20260420T195412Z
UID:d9b9c9720f1704cd60516efd9e1cd628
CREATED;VALUE=DATE-TIME:20140516T000000Z
CATEGORIES:
LOCATION:Centre Cultural de Can Lleonart - Plaça dels Germans Lleonart, 1 08328 Alella
ORGANIZER:Ajuntament d'Alella
URL:https://www.mynerva.net/ajalella/document.php?id=3963
END:VEVENT
END:VCALENDAR