BEGIN:VCALENDAR
VERSION:2.0
PRODID:-//Plone.org//NONSGML plone.app.event//EN
X-WR-TIMEZONE:Europe/Madrid
BEGIN:VEVENT
SUMMARY:Cicles de Música del Món. Chicuelo
DTSTART;TZID=Europe/Madrid;VALUE=DATE-TIME:20140523T210000
DTEND;TZID=Europe/Madrid;VALUE=DATE-TIME:20140523T220000
DTSTAMP;VALUE=DATE-TIME:20260420T221650Z
UID:27c43b6081c2028a9e70a3a46b3c5a3d
CREATED;VALUE=DATE-TIME:20140523T000000Z
CATEGORIES:
LOCATION:Centre Cultural de Can Lleonart - Plaça dels Germans Lleonart, 1 08328 Alella
ORGANIZER:Ajuntament d'Alella
URL:https://www.mynerva.net/ajalella/document.php?id=3965
END:VEVENT
END:VCALENDAR