BEGIN:VCALENDAR
VERSION:2.0
PRODID:-//Plone.org//NONSGML plone.app.event//EN
X-WR-TIMEZONE:Europe/Madrid
BEGIN:VEVENT
SUMMARY:Cicle de Músiques del Món. Lisboa Zentral Cafè
DTSTART;TZID=Europe/Madrid;VALUE=DATE-TIME:20140530T210000
DTEND;TZID=Europe/Madrid;VALUE=DATE-TIME:20140530T220000
DTSTAMP;VALUE=DATE-TIME:20260421T050838Z
UID:a6d63db21a6fd1c7051c111557d5509b
CREATED;VALUE=DATE-TIME:20140530T000000Z
CATEGORIES:
LOCATION:Centre Cultural de Can Lleonart - Plaça dels Germans Lleonart, 1 08328 Alella
ORGANIZER:Ajuntament d'Alella
URL:https://www.mynerva.net/ajalella/document.php?id=3967
END:VEVENT
END:VCALENDAR