BEGIN:VCALENDAR
VERSION:2.0
PRODID:-//Plone.org//NONSGML plone.app.event//EN
X-WR-TIMEZONE:Europe/Madrid
BEGIN:VEVENT
SUMMARY:Tricentenari. Teatre. "Mestre Oleguer"
DTSTART;TZID=Europe/Madrid;VALUE=DATE-TIME:20140531T210000
DTEND;TZID=Europe/Madrid;VALUE=DATE-TIME:20140531T220000
DTSTAMP;VALUE=DATE-TIME:20260421T053804Z
UID:ea69bdf1b74f1785c276fb519ac778b3
CREATED;VALUE=DATE-TIME:20140531T000000Z
CATEGORIES:
LOCATION:Centre Cultural de Can Lleonart - Plaça dels Germans Lleonart, 1 08328 Alella
ORGANIZER:Ajuntament d'Alella
URL:https://www.mynerva.net/ajalella/document.php?id=3969
END:VEVENT
END:VCALENDAR