BEGIN:VCALENDAR
VERSION:2.0
PRODID:-//Plone.org//NONSGML plone.app.event//EN
X-WR-TIMEZONE:Europe/Madrid
BEGIN:VEVENT
SUMMARY:Travessa pels camins de ronda del Cap de Begur
DTSTART;TZID=Europe/Madrid;VALUE=DATE-TIME:20140604T073000
DTEND;TZID=Europe/Madrid;VALUE=DATE-TIME:20140604T083000
DTSTAMP;VALUE=DATE-TIME:20260421T090512Z
UID:8ea245b4b9cb1e6caaa11c806b893f78
CREATED;VALUE=DATE-TIME:20140604T000000Z
CATEGORIES:
LOCATION:Plaça d'Antoni Pujadas - Plaça d'Antoni Pujadas. 08328 Alella
ORGANIZER:Ajuntament d'Alella
DESCRIPTION:PLACES EXHAURIDES
URL:https://www.mynerva.net/ajalella/document.php?id=3970
END:VEVENT
END:VCALENDAR