BEGIN:VCALENDAR
VERSION:2.0
PRODID:-//Plone.org//NONSGML plone.app.event//EN
X-WR-TIMEZONE:Europe/Madrid
BEGIN:VEVENT
SUMMARY:Tertúlies amb cooperació. "A qui li importa el què passa a Síria?"
DTSTART;TZID=Europe/Madrid;VALUE=DATE-TIME:20140526T200000
DTEND;TZID=Europe/Madrid;VALUE=DATE-TIME:20140526T210000
DTSTAMP;VALUE=DATE-TIME:20260421T013659Z
UID:dcda906495ffe8bbee848396317d7d6c
CREATED;VALUE=DATE-TIME:20140526T000000Z
CATEGORIES:
LOCATION:Centre Cultural de Can Lleonart - Plaça dels Germans Lleonart, 1 08328 Alella
ORGANIZER:Ajuntament d'Alella
URL:https://www.mynerva.net/ajalella/document.php?id=3971
END:VEVENT
END:VCALENDAR