BEGIN:VCALENDAR
VERSION:2.0
PRODID:-//Plone.org//NONSGML plone.app.event//EN
X-WR-TIMEZONE:Europe/Madrid
BEGIN:VEVENT
SUMMARY:Club de lectura. "Sayonara Barcelona", de Joaquim Pijoan
DTSTART;TZID=Europe/Madrid;VALUE=DATE-TIME:20140508T210000
DTEND;TZID=Europe/Madrid;VALUE=DATE-TIME:20140508T220000
DTSTAMP;VALUE=DATE-TIME:20260420T131416Z
UID:7aa4f49534f3f57decc09a12cdfde057
CREATED;VALUE=DATE-TIME:20140508T000000Z
CATEGORIES:
LOCATION:Biblioteca Municipal Ferrer i Guàrdia - Hort de la Rectoria. 08328 Alella
ORGANIZER:Ajuntament d'Alella
URL:https://www.mynerva.net/ajalella/document.php?id=3987
END:VEVENT
END:VCALENDAR