BEGIN:VCALENDAR
VERSION:2.0
PRODID:-//Plone.org//NONSGML plone.app.event//EN
X-WR-TIMEZONE:Europe/Madrid
BEGIN:VEVENT
SUMMARY:Hora del conte."El gall i la gallina"
DTSTART;TZID=Europe/Madrid;VALUE=DATE-TIME:20140520T173000
DTEND;TZID=Europe/Madrid;VALUE=DATE-TIME:20140520T183000
DTSTAMP;VALUE=DATE-TIME:20260420T221450Z
UID:b615da8ffcd10461b8edef12cfbde0bd
CREATED;VALUE=DATE-TIME:20140520T000000Z
CATEGORIES:Familiars
LOCATION:Biblioteca Municipal Ferrer i Guàrdia - Hort de la Rectoria. 08328 Alella
ORGANIZER:Ajuntament d'Alella
URL:https://www.mynerva.net/ajalella/document.php?id=3988
END:VEVENT
END:VCALENDAR