BEGIN:VCALENDAR
VERSION:2.0
PRODID:-//Plone.org//NONSGML plone.app.event//EN
X-WR-TIMEZONE:Europe/Madrid
BEGIN:VEVENT
SUMMARY:Coneix el jardí dels Pinyons
DTSTART;TZID=Europe/Madrid;VALUE=DATE-TIME:20140507T163000
DTEND;TZID=Europe/Madrid;VALUE=DATE-TIME:20140507T173000
DTSTAMP;VALUE=DATE-TIME:20260420T114456Z
UID:57a449a880e4533abdea986fb5d86a30
CREATED;VALUE=DATE-TIME:20140507T000000Z
CATEGORIES:
LOCATION:Llar d'Infants Municipal Els Pinyons - Avinguda del Bosquet, 5
ORGANIZER:Ajuntament d'Alella
URL:https://www.mynerva.net/ajalella/document.php?id=3995
END:VEVENT
END:VCALENDAR