BEGIN:VCALENDAR
VERSION:2.0
PRODID:-//Plone.org//NONSGML plone.app.event//EN
X-WR-TIMEZONE:Europe/Madrid
BEGIN:VEVENT
SUMMARY:Taller pràctic per millorar el benestar i la salut
DTSTART;TZID=Europe/Madrid;VALUE=DATE-TIME:20140507T170000
DTEND;TZID=Europe/Madrid;VALUE=DATE-TIME:20140507T180000
DTSTAMP;VALUE=DATE-TIME:20260420T115356Z
UID:f71368120e7b923103ae93440bd764db
CREATED;VALUE=DATE-TIME:20140507T000000Z
CATEGORIES:
LOCATION:Casal de la Gent Gran Can Gaza - Av Sant Josep de Calassanç 23-25. 08328 Alella
ORGANIZER:Ajuntament d'Alella
URL:https://www.mynerva.net/ajalella/document.php?id=4009
END:VEVENT
END:VCALENDAR