BEGIN:VCALENDAR
VERSION:2.0
PRODID:-//Plone.org//NONSGML plone.app.event//EN
X-WR-TIMEZONE:Europe/Madrid
BEGIN:VEVENT
SUMMARY:Xerrada-taller. "Drets laborals", amb el col·lectiu Ronda
DTSTART;TZID=Europe/Madrid;VALUE=DATE-TIME:20140508T190000
DTEND;TZID=Europe/Madrid;VALUE=DATE-TIME:20140508T200000
DTSTAMP;VALUE=DATE-TIME:20260420T130613Z
UID:12191c60ff408a86c04882113617c9f0
CREATED;VALUE=DATE-TIME:20140508T000000Z
CATEGORIES:
LOCATION:Espai Jove - Avinguda Ferran Fabra, 1 08328
ORGANIZER:Ajuntament d'Alella
URL:https://www.mynerva.net/ajalella/document.php?id=4018
END:VEVENT
END:VCALENDAR