BEGIN:VCALENDAR
VERSION:2.0
PRODID:-//Plone.org//NONSGML plone.app.event//EN
X-WR-TIMEZONE:Europe/Madrid
BEGIN:VEVENT
SUMMARY:IX Caminada dels Tres Pobles
DTSTART;TZID=Europe/Madrid;VALUE=DATE-TIME:20140511T090000
DTEND;TZID=Europe/Madrid;VALUE=DATE-TIME:20140511T100000
DTSTAMP;VALUE=DATE-TIME:20260420T152845Z
UID:5f8940cfbadd75dad2c9aefbeb021474
CREATED;VALUE=DATE-TIME:20140511T000000Z
CATEGORIES:Esports
LOCATION:El Bosquet - Avinguda del Bosquet, s/n. 08328 Alella
ORGANIZER:Ajuntaments d'Alella, el Masnou i Teià
URL:https://www.mynerva.net/ajalella/document.php?id=4021
END:VEVENT
END:VCALENDAR